Felt | Verdi |
AlreadyApplied | True |
Aperture | 1.8 |
ApertureValue | 1.8 |
ApproximateFocusDistance | 0.73 |
AutoLateralCA | 0 |
BitsPerSample (1) | 8 8 8 |
BitsPerSample | 8 |
Blacks2012 | +9 |
BlueHue | 0 |
BlueSaturation | 0 |
CameraProfile | Embedded |
CircleOfConfusion | 0.030 mm |
Clarity2012 | +64 |
ColorComponents | 1 |
ColorMode | Grayscale |
ColorNoiseReduction | 0 |
ColorSpace | Uncalibrated |
ColorTransform | Unknown (RGB or CMYK) |
Contrast2012 | +12 |
ConvertToGrayscale | True |
CreateDate | 2014:09:11 19:00:13 |
CreatorTool | Adobe Photoshop CS6 (Macintosh) |
CustomRendered | Normal |
DateCreated (1) | 2014:09:11 |
DateCreated | 2014:09:11 19:00:13.019 |
DateTimeOriginal | 2014:09:11 19:00:13 |
DOF | 0.02 m (0.72 - 0.74 m) |
ExifImageHeight | 3125 |
ExifImageWidth | 6620 |
Exposure2012 | +0.15 |
ExposureCompensation | -2/3 |
ExposureMode | Auto |
ExposureProgram | Aperture-priority AE |
ExposureTime | 1/320 |
Firmware | 1.1.3 |
Flash | Off, Did not fire |
FlashCompensation | 0 |
FNumber | 1.8 |
FocalLength | 50.0 mm |
FocalLength35efl | 50.0 mm (35 mm equivalent: 49.4 mm) |
Format | image/jpeg |
FOV | 40.1 deg |
GrainAmount | 0 |
GrayMixerAqua | -21 |
GrayMixerBlue | +14 |
GrayMixerGreen | -8 |
GrayMixerMagenta | +9 |
GrayMixerOrange | +4 |
GrayMixerPurple | +14 |
GrayMixerRed | +14 |
GrayMixerYellow | +9 |
GreenHue | 0 |
GreenSaturation | 0 |
HasCrop | False |
HasExtendedXMP | C47AE2B7265DBB43B5277CAD35E8AB15 |
HasSettings | True |
Highlights2012 | -33 |
HyperfocalDistance | 45.64 m |
ICCProfileName | Dot Gain 20% |
ImageHeight | 3125 |
ImageNumber | 0 |
ImageSize | 6620x3125 |
ImageWidth | 6620 |
IncrementalTemperature | 0 |
IncrementalTint | 0 |
ISO | 640 |
Lens | 50mm |
LensID (1) | 180 |
LensID | Sigma 50mm f/1.4 DG HSM | A or Zeiss Milvus 50mm f/1.4 or Sigma 50mm f/1.5 FF High-Speed Prime | 017 or Tokina Opera 50mm f/1.4 FF |
LensInfo | 50mm f/? |
LensManualDistortionAmount | 0 |
LensModel | 50mm |
LensProfileEnable | 0 |
LensProfileSetup | LensDefaults |
LensSerialNumber | 0000000000 |
LightValue | 7.3 |
LuminanceSmoothing | 0 |
Make | Canon |
MaxApertureValue | 1.4 |
Megapixels | 20.7 |
MeteringMode | Multi-segment |
Model | Canon EOS 6D |
ModifyDate (1) | 2014:09:11 20:51:16+02:00 |
ModifyDate | 2014:09:11 20:51:16 |
Orientation | Horizontal (normal) |
PaintCorrectionActive | true |
PaintCorrectionAmount | 1.000000 |
PaintCorrectionBrightness | 0.000000 |
PaintCorrectionClarity | 0.000000 |
PaintCorrectionClarity2012 (1) | 0.020000 |
PaintCorrectionClarity2012 (3) | 0.120000 |
PaintCorrectionClarity2012 (7) | 0.000000 |
PaintCorrectionClarity2012 | 0.450000 |
PaintCorrectionContrast | 0.000000 |
PaintCorrectionContrast2012 (3) | 0.340000 |
PaintCorrectionContrast2012 | 0.000000 |
PaintCorrectionDefringe | 0.000000 |
PaintCorrectionExposure | 0.000000 |
PaintCorrectionExposure2012 (1) | -0.787500 |
PaintCorrectionExposure2012 | 0.000000 |
PaintCorrectionHighlights2012 (1) | 0.560000 |
PaintCorrectionHighlights2012 (2) | 0.770000 |
PaintCorrectionHighlights2012 (5) | 0.420000 |
PaintCorrectionHighlights2012 | 0.000000 |
PaintCorrectionHue | 273.000000 |
PaintCorrectionLuminanceNoise | 0.000000 |
PaintCorrectionMaskCenterWeight | 0.240684 |
PaintCorrectionMaskFlow | 0.621005 |
PaintCorrectionMaskRadius (10) | 0.023423 |
PaintCorrectionMaskRadius (20) | 0.035510 |
PaintCorrectionMaskRadius (6) | 0.018236 |
PaintCorrectionMaskRadius | 0.029921 |
PaintCorrectionMaskValue (33) | 0.360000 |
PaintCorrectionMaskValue (9) | 1.000000 |
PaintCorrectionMaskValue | 0.640000 |
PaintCorrectionMaskWhat | Mask/Paint |
PaintCorrectionMoire | 0.000000 |
PaintCorrectionSaturation | 0.000000 |
PaintCorrectionShadows2012 (2) | 0.240000 |
PaintCorrectionShadows2012 (3) | -0.240000 |
PaintCorrectionShadows2012 (8) | 0.460000 |
PaintCorrectionShadows2012 | 0.000000 |
PaintCorrectionSharpness | 0.000000 |
PaintCorrectionTemperature | 0.000000 |
PaintCorrectionTint | 0.000000 |
PaintCorrectionWhat | Correction |
ParametricDarks | 0 |
ParametricHighlights | 0 |
ParametricHighlightSplit | 75 |
ParametricLights | 0 |
ParametricMidtoneSplit | 50 |
ParametricShadows | 0 |
ParametricShadowSplit | 25 |
PerspectiveHorizontal | 0 |
PerspectiveRotate | 0.0 |
PerspectiveScale | 100 |
PerspectiveVertical | 0 |
PhotometricInterpretation | RGB |
PostCropVignetteAmount | 0 |
ProcessVersion | 6.7 |
ProfileDescription | Dot Gain 20% |
Rating | 0 |
RawFileName | IMG_8184.JPG |
RecommendedExposureIndex | 640 |
RedHue | 0 |
RedSaturation | 0 |
SamplesPerPixel | 3 |
ScaleFactor35efl | 1.0 |
SceneCaptureType | Standard |
SensitivityType | Recommended Exposure Index |
SerialNumber | 033024005297 |
Shadows2012 | +29 |
ShadowTint | 0 |
SharpenDetail | 25 |
SharpenEdgeMasking | 0 |
SharpenRadius | +1.0 |
Sharpness | 0 |
ShutterSpeed | 1/320 |
ShutterSpeedValue | 1/320 |
Software | Adobe Photoshop CS6 (Macintosh) |
SplitToningBalance | 0 |
SplitToningHighlightHue | 0 |
SplitToningHighlightSaturation | 0 |
SplitToningShadowHue | 0 |
SplitToningShadowSaturation | 0 |
ToneCurveName2012 | Linear |
ToneCurvePV2012 | 0, 0, 255, 255 |
ToneCurvePV2012Blue | 0, 0, 255, 255 |
ToneCurvePV2012Green | 0, 0, 255, 255 |
ToneCurvePV2012Red | 0, 0, 255, 255 |
URL_List | |
Version | 7.3 |
VignetteAmount | 0 |
WhiteBalance (1) | As Shot |
WhiteBalance | Auto |
Whites2012 | +11 |