Felt | Verdi |
AlreadyApplied | True |
Aperture | 4.0 |
ApertureValue | 4.0 |
AutoLateralCA | 0 |
AutoWhiteVersion | 134348800 |
BitsPerSample | 8 |
Blacks2012 | 0 |
BlueHue | 0 |
BlueSaturation | 0 |
CameraProfile | Embedded |
CircleOfConfusion | 0.006 mm |
Clarity2012 | +100 |
ColorComponents | 3 |
ColorNoiseReduction | 0 |
ColorSpace | sRGB |
ColorTransform | YCbCr |
CompressedBitsPerPixel | 3 |
Contrast2012 | +71 |
ConvertToGrayscale | True |
CreateDate (1) | 2015:07:18 17:25:17+02:00 |
CreateDate | 2015:07:18 17:25:17 |
CreatorTool | Adobe Photoshop Lightroom 5.0 (Macintosh) |
CropAngle | 0 |
CropBottom | 0.888643 |
CropConstrainToWarp | 0 |
CropLeft | 0.032605 |
CropRight | 0.87773 |
CropTop | 0.020505 |
CustomRendered | Normal |
DateAcquired | 2015:07:18 17:53:22.795 |
DateCreated (1) | 2015:07:18 |
DateCreated | 2015:07:18 17:25:17+02:00 |
DateTimeOriginal | 2015:07:18 17:25:17 |
DigitalZoomRatio | 1 |
Exposure2012 | -1.85 |
ExposureCompensation | 0 |
ExposureMode | Auto |
ExposureTime | 1/320 |
Flash | Off, Did not fire |
FNumber | 4.0 |
FocalLength | 12.4 mm |
FocalLength35efl | 12.4 mm (35 mm equivalent: 57.8 mm) |
Format | image/jpeg |
FOV | 34.6 deg |
GrainAmount | 0 |
GrayMixerAqua | -14 |
GrayMixerBlue | +17 |
GrayMixerGreen | -28 |
GrayMixerMagenta | +4 |
GrayMixerOrange | -22 |
GrayMixerPurple | +20 |
GrayMixerRed | -12 |
GrayMixerYellow | -26 |
GreenHue | 0 |
GreenSaturation | 0 |
HasCrop | True |
HasSettings | True |
Highlights2012 | -53 |
HyperfocalDistance | 5.95 m |
ImageHeight | 2967 |
ImageSize | 3999x2967 |
ImageWidth | 3999 |
IncrementalTemperature | -42 |
IncrementalTint | 0 |
ISO | 80 |
Keywords | 10 år |
LastKeywordXMP | 10 år |
LensManualDistortionAmount | 0 |
LensProfileEnable | 0 |
LensProfileSetup | LensDefaults |
LightValue | 12.6 |
LuminanceNoiseReductionContrast | 0 |
LuminanceNoiseReductionDetail | 50 |
LuminanceSmoothing | 17 |
Make | Canon |
MaxApertureValue | 4.0 |
Megapixels | 11.9 |
MeteringMode | Multi-segment |
Model | Canon PowerShot S120 |
ModifyDate (1) | 2020:04:08 14:54:08+02:00 |
ModifyDate | 2020:04:08 14:54:08 |
ParametricDarks | 0 |
ParametricHighlights | 0 |
ParametricHighlightSplit | 75 |
ParametricLights | 0 |
ParametricMidtoneSplit | 50 |
ParametricShadows | 0 |
ParametricShadowSplit | 25 |
PerspectiveAspect | 0 |
PerspectiveHorizontal | 0 |
PerspectiveRotate | 0.0 |
PerspectiveScale | 100 |
PerspectiveUpright | 0 |
PerspectiveVertical | 0 |
PostCropVignetteAmount | -18 |
PostCropVignetteFeather | 50 |
PostCropVignetteHighlightContrast | 0 |
PostCropVignetteMidpoint | 50 |
PostCropVignetteRoundness | 0 |
PostCropVignetteStyle | 1 |
ProcessVersion | 6.7 |
ProfileDescription | sRGB IEC61966-2.1 |
RedHue | 0 |
RedSaturation | 0 |
ScaleFactor35efl | 4.7 |
SceneCaptureType | Standard |
SensingMethod | One-chip color area |
SensitivityType | Standard Output Sensitivity and Recommended Exposure Index |
Shadows2012 | +39 |
ShadowTint | 0 |
SharpenDetail | 25 |
SharpenEdgeMasking | 0 |
SharpenRadius | +1.0 |
Sharpness | 12 |
ShutterSpeed | 1/320 |
ShutterSpeedValue | 1/320 |
Software | Adobe Photoshop Lightroom 5.0 (Macintosh) |
SplitToningBalance | 0 |
SplitToningHighlightHue | 0 |
SplitToningHighlightSaturation | 0 |
SplitToningShadowHue | 0 |
SplitToningShadowSaturation | 0 |
Subject | 10 år |
ToneCurveName2012 | Linear |
ToneCurvePV2012 | 0, 0, 255, 255 |
ToneCurvePV2012Blue | 0, 0, 255, 255 |
ToneCurvePV2012Green | 0, 0, 255, 255 |
ToneCurvePV2012Red | 0, 0, 255, 255 |
Version | 8.2 |
VignetteAmount | 0 |
WhiteBalance (1) | Custom |
WhiteBalance | Auto |
Whites2012 | 0 |