Felt | Verdi |
AlreadyApplied | True |
Aperture | 10.0 |
ApertureValue | 10.0 |
Artist | Tomas Levin |
AuthorsPosition | |
BitsPerSample | 8 |
BlueHue | 0 |
BlueSaturation | 0 |
Brightness | +50 |
By-line | unknown |
CameraProfile | ACR 3.3 |
CaptionWriter | |
Category | |
ChromaticAberrationB | 0 |
ChromaticAberrationR | 0 |
CircleOfConfusion | 0.024 mm |
City | |
ColorComponents | 3 |
ColorNoiseReduction | 25 |
ColorTemperature | 5529 |
Contrast | +25 |
ConvertToGrayscale | False |
Country | |
CountryCode | |
CreateDate | 2006:06:22 20:17:49 |
Creator | unknown |
CreatorAddress | |
CreatorCity | |
CreatorCountry | |
CreatorPostalCode | |
CreatorRegion | |
CreatorTool | Adobe Photoshop Lightroom |
CreatorWorkEmail | |
CreatorWorkTelephone | |
CreatorWorkURL | |
Credit | |
CropAngle | 0 |
CropBottom | 1 |
CropHeight | 557 |
CropLeft | 0 |
CropRight | 0.918919 |
CropTop | 0 |
CropUnit | pixels |
CropWidth | 768 |
CustomRendered | Normal |
DateCreated | |
DateTimeDigitized | 2006:06:22 20:17:49+02:00 |
DateTimeOriginal (1) | 2006:06:22 20:17:49+02:00 |
DateTimeOriginal | 2006:06:22 20:17:49 |
Exposure | 0.00 |
ExposureCompensation | 0 |
ExposureMode | Auto |
ExposureProgram | Program AE |
ExposureTime | 1/1600 |
FillLight | 0 |
Firmware | 1.0.4 |
Flash | Off, Did not fire |
FlashCompensation | 0 |
FlashFired | False |
FlashFunction | False |
FlashMode | Off |
FlashRedEyeMode | False |
FlashReturn | No return detection |
FNumber | 10.0 |
FocalLength | 150.0 mm |
FocalLength35efl | 150.0 mm (35 mm equivalent: 188.0 mm) |
FOV | 10.9 deg |
GreenHue | 0 |
GreenSaturation | 0 |
HasCrop | True |
HasSettings | True |
Headline | |
HighlightRecovery | 0 |
HueAdjustmentAqua | 0 |
HueAdjustmentBlue | 0 |
HueAdjustmentGreen | 0 |
HueAdjustmentMagenta | 0 |
HueAdjustmentOrange | 0 |
HueAdjustmentPurple | 0 |
HueAdjustmentRed | +4 |
HueAdjustmentYellow | 0 |
HyperfocalDistance | 93.84 m |
ImageHeight | 768 |
ImageNumber | 2205 |
ImageSize | 557x768 |
ImageWidth | 557 |
Instructions | |
IntellectualGenre | |
ISO | 640 |
Lens | 150.0 mm |
LensInfo | 150mm f/? |
LightValue | 14.6 |
Location | |
LuminanceAdjustmentAqua | 0 |
LuminanceAdjustmentBlue | 0 |
LuminanceAdjustmentGreen | 0 |
LuminanceAdjustmentMagenta | 0 |
LuminanceAdjustmentOrange | 0 |
LuminanceAdjustmentPurple | 0 |
LuminanceAdjustmentRed | 0 |
LuminanceAdjustmentYellow | 0 |
LuminanceSmoothing | 0 |
Make | Canon |
MaxApertureValue | 2.8 |
Megapixels | 0.428 |
MeteringMode | Multi-segment |
Model | Canon EOS-1D Mark II N |
ModifyDate (1) | 2007:05:02 20:11:07+02:00 |
ModifyDate | 2007:05:02 20:11:07 |
OwnerName | Tomas Levin |
ParametricDarks | -11 |
ParametricHighlights | 0 |
ParametricHighlightSplit | 75 |
ParametricLights | +18 |
ParametricMidtoneSplit | 50 |
ParametricShadows | +20 |
ParametricShadowSplit | 23 |
ProfileDescription | Adobe RGB (1998) |
RedHue | 0 |
RedSaturation | 0 |
Saturation | +1 |
SaturationAdjustmentAqua | 0 |
SaturationAdjustmentBlue | 0 |
SaturationAdjustmentGreen | 0 |
SaturationAdjustmentMagenta | 0 |
SaturationAdjustmentOrange | 0 |
SaturationAdjustmentPurple | 0 |
SaturationAdjustmentRed | 0 |
SaturationAdjustmentYellow | 0 |
ScaleFactor35efl | 1.3 |
SceneCaptureType | Standard |
SerialNumber | 407990 |
Shadows | 5 |
ShadowTint | 0 |
Sharpness | 25 |
ShutterSpeed | 1/1600 |
ShutterSpeedValue | 1/1600 |
Source | |
SplitToningBalance | 0 |
SplitToningHighlightHue | 0 |
SplitToningHighlightSaturation | 0 |
SplitToningShadowHue | 0 |
SplitToningShadowSaturation | 0 |
State | |
Tint | +7 |
Title | |
ToneCurve | 0, 0, 32, 22, 64, 56, 128, 128, 192, 196, 255, 255 |
ToneCurveName | Medium Contrast |
TransmissionReference | |
UsageTerms | |
Version | 1.0 |
Vibrance | 0 |
VignetteAmount | 0 |
WebStatement | |
WhiteBalance (2) | Custom |
WhiteBalance | Auto |