Felt | Verdi |
AlreadyApplied | True |
Aperture | 5.6 |
ApertureValue | 5.6 |
Artist | unknown |
BitsPerSample (1) | 8, 8, 8 |
BitsPerSample (2) | 8 8 8 |
BitsPerSample | 8 |
BlueHue | 0 |
BlueSaturation | 0 |
Brightness | +30 |
By-line | unknown |
CameraProfile | ACR 3.6 |
ChromaticAberrationB | 0 |
ChromaticAberrationR | 0 |
CircleOfConfusion | 0.019 mm |
ColorComponents | 3 |
ColorMode | RGB |
ColorNoiseReduction | 24 |
ColorSpace | sRGB |
ColorTemperature | 5500 |
Contrast | +29 |
ConvertToGrayscale | False |
CopyrightFlag | False |
CreateDate (1) | 2007:06:27 01:55:45+02:00 |
CreateDate | 2007:05:27 16:42:44 |
Creator | unknown |
CreatorTool | Adobe Photoshop CS2 Windows |
CropAngle | 0 |
CropBottom | 0.945289 |
CropHeight | 1977 |
CropLeft | 0.267748 |
CropRight | 0.967546 |
CropTop | 0.182371 |
CropUnit | pixels |
CropWidth | 2721 |
CustomRendered | Normal |
DateTimeDigitized | 2007:05:27 16:42:44+02:00 |
DateTimeOriginal (1) | 2007:05:27 16:42:44+02:00 |
DateTimeOriginal | 2007:05:27 16:42:44 |
ExifImageHeight | 768 |
ExifImageWidth | 558 |
Exposure | -0.80 |
ExposureCompensation | -1/3 |
ExposureMode | Auto |
ExposureProgram | Aperture-priority AE |
ExposureTime | 1/160 |
FillLight | 15 |
Firmware | 1.0.5 |
Flash | On, Fired |
FlashCompensation | -0.333333333333333 |
FlashFired | True |
FlashFunction | False |
FlashMode | On |
FlashRedEyeMode | False |
FlashReturn | No return detection |
FNumber | 5.6 |
FocalLength | 55.0 mm |
FocalLength35efl | 55.0 mm (35 mm equivalent: 89.0 mm) |
Format | image/jpeg |
FOV | 22.9 deg |
GreenHue | 0 |
GreenSaturation | 0 |
HasCrop | True |
HasSettings | True |
HighlightRecovery | 100 |
HueAdjustmentAqua | 0 |
HueAdjustmentBlue | 0 |
HueAdjustmentGreen | 0 |
HueAdjustmentMagenta | 0 |
HueAdjustmentOrange | -6 |
HueAdjustmentPurple | -100 |
HueAdjustmentRed | +27 |
HueAdjustmentYellow | -100 |
HyperfocalDistance | 29.10 m |
ICCProfileName | sRGB IEC61966-2.1 |
ImageHeight (1) | 2721 |
ImageHeight | 768 |
ImageNumber | 80 |
ImageSize | 558x768 |
ImageWidth (1) | 1977 |
ImageWidth | 558 |
ISO | 1600 |
Lens | EF-S18-55mm f/3.5-5.6 |
LensInfo | 18-55mm f/? |
LightValue | 8.3 |
LuminanceAdjustmentAqua | 0 |
LuminanceAdjustmentBlue | 0 |
LuminanceAdjustmentGreen | 0 |
LuminanceAdjustmentMagenta | 0 |
LuminanceAdjustmentOrange | 0 |
LuminanceAdjustmentPurple | 0 |
LuminanceAdjustmentRed | 0 |
LuminanceAdjustmentYellow | 0 |
LuminanceSmoothing | 35 |
Make | Canon |
MaxApertureValue | 5.6 |
Megapixels | 0.429 |
MeteringMode | Multi-segment |
Model | Canon EOS 400D DIGITAL |
ModifyDate (1) | 2007:06:27 01:55:45+02:00 |
ModifyDate | 2007:06:27 01:55:45 |
Orientation | Horizontal (normal) |
OwnerName | unknown |
ParametricDarks | 0 |
ParametricHighlights | 0 |
ParametricHighlightSplit | 75 |
ParametricLights | 0 |
ParametricMidtoneSplit | 50 |
ParametricShadows | 0 |
ParametricShadowSplit | 25 |
PhotometricInterpretation | RGB |
PlanarConfiguration | Chunky |
ProfileDescription | sRGB IEC61966-2.1 |
RedHue | 0 |
RedSaturation | 0 |
SamplesPerPixel | 3 |
Saturation | +32 |
SaturationAdjustmentAqua | -100 |
SaturationAdjustmentBlue | +100 |
SaturationAdjustmentGreen | -100 |
SaturationAdjustmentMagenta | +6 |
SaturationAdjustmentOrange | -32 |
SaturationAdjustmentPurple | +100 |
SaturationAdjustmentRed | 0 |
SaturationAdjustmentYellow | -27 |
ScaleFactor35efl | 1.6 |
SceneCaptureType | Standard |
SerialNumber | 1030594424 |
Shadows | 5 |
ShadowTint | 0 |
Sharpness | 69 |
ShutterSpeed | 1/160 |
ShutterSpeedValue | 1/160 |
Software | Adobe Photoshop CS2 Windows |
SplitToningBalance | 0 |
SplitToningHighlightHue | 0 |
SplitToningHighlightSaturation | 0 |
SplitToningShadowHue | 0 |
SplitToningShadowSaturation | 0 |
Tint | +10 |
ToneCurve | 0, 0, 32, 16, 64, 50, 128, 128, 192, 202, 255, 255 |
ToneCurveName | Strong Contrast |
URL_List | |
Version | 1.0 |
Vibrance | 0 |
VignetteAmount | 0 |
WhiteBalance (2) | Daylight |
WhiteBalance | Manual |