Felt | Verdi |
AlreadyApplied | True |
Aperture | 5.8 |
ApertureValue | 5.8 |
Artist | Jan Rolf Jakobsen |
BitsPerSample | 8 |
BlueHue | 0 |
BlueSaturation | 0 |
Brightness | +54 |
By-line | Jan Rolf Jakobsen |
CameraProfile | Embedded |
ChromaticAberrationB | 0 |
ChromaticAberrationR | 0 |
CircleOfConfusion | 0.005 mm |
Clarity | 100 |
ColorComponents | 1 |
ColorNoiseReduction | 0 |
ColorSpace | sRGB |
CompressedBitsPerPixel | 5 |
Contrast | +100 |
ConvertToGrayscale | False |
CreateDate | 2007:08:03 18:57:31 |
Creator | Jan Rolf Jakobsen |
CreatorTool | Adobe Photoshop Lightroom |
CustomRendered | Custom |
DateTimeDigitized | 2007:08:03 18:57:31+02:00 |
DateTimeOriginal (1) | 2007:08:03 18:57:31+02:00 |
DateTimeOriginal | 2007:08:03 18:57:31 |
Defringe | 0 |
DigitalZoomRatio | 1 |
ExifImageHeight | 2304 |
ExifImageWidth | 3072 |
Exposure | 0.00 |
ExposureCompensation | 0 |
ExposureMode | Auto |
ExposureTime | 1/200 |
FillLight | 15 |
Firmware | 1.00 |
Flash | Auto, Did not fire |
FlashCompensation | 0 |
FlashFired | False |
FlashFunction | False |
FlashMode | Auto |
FlashRedEyeMode | False |
FlashReturn | No return detection |
FNumber | 5.8 |
FocalLength | 17.3 mm |
FocalLength35efl | 17.3 mm (35 mm equivalent: 104.7 mm) |
FOV | 19.5 deg |
GreenHue | 0 |
GreenSaturation | 0 |
HasCrop | False |
HasSettings | True |
HierarchicalSubject | Event|Friluftsliv|Bading, Event|Morro, Personer|Familie, Personer|Familie|Ronny, Steder|Harstad|Ervik |
HighlightRecovery | 100 |
HueAdjustmentAqua | 0 |
HueAdjustmentBlue | 0 |
HueAdjustmentGreen | 0 |
HueAdjustmentMagenta | 0 |
HueAdjustmentOrange | 0 |
HueAdjustmentPurple | 0 |
HueAdjustmentRed | 0 |
HueAdjustmentYellow | 0 |
HyperfocalDistance | 10.40 m |
ImageHeight | 700 |
ImageSize | 525x700 |
ImageWidth | 525 |
IncrementalTemperature | 0 |
IncrementalTint | 0 |
Keywords | Bading, Ervik, Event, Familie, Friluftsliv, Harstad, Morro, Personer, Ronny, Steder |
Lens | 4.6-17.3 mm |
LensInfo | 4.6-17.3mm f/? |
LuminanceAdjustmentAqua | 0 |
LuminanceAdjustmentBlue | 0 |
LuminanceAdjustmentGreen | 0 |
LuminanceAdjustmentMagenta | 0 |
LuminanceAdjustmentOrange | 0 |
LuminanceAdjustmentPurple | 0 |
LuminanceAdjustmentRed | 0 |
LuminanceAdjustmentYellow | 0 |
LuminanceSmoothing | 0 |
Make | Canon |
MaxApertureValue | 5.6 |
Megapixels | 0.367 |
MeteringMode | Multi-segment |
Model | Canon DIGITAL IXUS 850 IS |
ModifyDate (1) | 2007:10:03 19:12:31+02:00 |
ModifyDate | 2007:10:03 19:12:31 |
ParametricDarks | -27 |
ParametricHighlights | -43 |
ParametricHighlightSplit | 75 |
ParametricLights | -76 |
ParametricMidtoneSplit | 50 |
ParametricShadows | -1 |
ParametricShadowSplit | 25 |
ProfileDescription | Adobe RGB (1998) |
Rating | 5 |
RedHue | 0 |
RedSaturation | 0 |
Saturation | -100 |
SaturationAdjustmentAqua | 0 |
SaturationAdjustmentBlue | 0 |
SaturationAdjustmentGreen | 0 |
SaturationAdjustmentMagenta | 0 |
SaturationAdjustmentOrange | 0 |
SaturationAdjustmentPurple | 0 |
SaturationAdjustmentRed | 0 |
SaturationAdjustmentYellow | 0 |
ScaleFactor35efl | 6.1 |
SceneCaptureType | Standard |
SensingMethod | One-chip color area |
Shadows | 40 |
ShadowTint | 0 |
SharpenDetail | 25 |
SharpenEdgeMasking | 0 |
SharpenRadius | +1.0 |
Sharpness | 0 |
ShutterSpeed | 1/200 |
ShutterSpeedValue | 1/200 |
Software | Adobe Photoshop Elements 5.0 |
SplitToningBalance | 0 |
SplitToningHighlightHue | 0 |
SplitToningHighlightSaturation | 0 |
SplitToningShadowHue | 0 |
SplitToningShadowSaturation | 0 |
Subject | Bading, Ervik, Event, Familie, Friluftsliv, Harstad, Morro, Personer, Ronny, Steder |
ToneCurve | 0, 0, 255, 255 |
ToneCurveName | Linear |
Version | 1.0 |
Vibrance | +100 |
VignetteAmount | 0 |
WhiteBalance (2) | As Shot |
WhiteBalance | Auto |