Felt | Verdi |
AlreadyApplied | True |
Aperture | 2.8 |
ApertureValue | 2.8 |
BitsPerSample | 8 |
BlueHue | 0 |
BlueSaturation | 0 |
Brightness | 0 |
CameraProfile | Embedded |
ChromaticAberrationB | 0 |
ChromaticAberrationR | 0 |
CircleOfConfusion | 0.006 mm |
Clarity | 0 |
ColorComponents | 1 |
ColorNoiseReduction | 0 |
Contrast | +22 |
ConvertToGrayscale | True |
CreateDate (1) | 2006:07:06 17:39:26+02:00 |
CreateDate | 2006:07:06 17:39:26 |
CreatorTool | Adobe Photoshop Lightroom |
CropAngle | 0 |
CropBottom | 0.896861 |
CropHeight | 2066 |
CropLeft | 0 |
CropRight | 0.667227 |
CropTop | 0 |
CropUnit | pixels |
CropWidth | 2050 |
CustomRendered | Normal |
DateTimeDigitized | 2006:07:06 17:39:26+02:00 |
DateTimeOriginal (1) | 2006:07:06 17:39:26+02:00 |
DateTimeOriginal | 2006:07:06 17:39:26 |
Defringe | 0 |
DigitalZoomRatio | 1.5 |
ExifImageHeight | 2066 |
ExifImageWidth | 2050 |
Exposure | 0.00 |
ExposureCompensation | 0 |
ExposureMode | Auto |
ExposureTime | 1/160 |
FillLight | 0 |
Firmware | 1.01 |
Flash | Off, Did not fire |
FlashCompensation | 0 |
FlashFired | False |
FlashFunction | False |
FlashMode | Off |
FlashRedEyeMode | False |
FlashReturn | No return detection |
FNumber | 2.8 |
FocalLength | 7.7 mm |
FocalLength35efl | 7.7 mm (35 mm equivalent: 36.9 mm) |
FOV | 51.9 deg |
GrayMixerAqua | 0 |
GrayMixerBlue | 0 |
GrayMixerGreen | 0 |
GrayMixerMagenta | 0 |
GrayMixerOrange | 0 |
GrayMixerPurple | 0 |
GrayMixerRed | 0 |
GrayMixerYellow | 0 |
GreenHue | 0 |
GreenSaturation | 0 |
HasCrop | True |
HasSettings | True |
HighlightRecovery | 0 |
HyperfocalDistance | 3.38 m |
ImageHeight | 2066 |
ImageSize | 2050x2066 |
ImageWidth | 2050 |
IncrementalTemperature | 0 |
IncrementalTint | 0 |
Lens | 7.7-23.1 mm |
LensInfo | 7.7-23.1mm f/? |
LuminanceSmoothing | 0 |
Make | Canon |
MaxApertureValue | 2.8 |
Megapixels | 4.2 |
MeteringMode | Center-weighted average |
Model | Canon DIGITAL IXUS 700 |
ModifyDate (1) | 2009:06:21 15:49:09+02:00 |
ModifyDate | 2009:06:21 15:49:09 |
ParametricDarks | 0 |
ParametricHighlights | +19 |
ParametricHighlightSplit | 75 |
ParametricLights | +17 |
ParametricMidtoneSplit | 50 |
ParametricShadows | 0 |
ParametricShadowSplit | 25 |
PostCropVignetteAmount | 0 |
ProfileDescription | sRGB IEC61966-2.1 |
RedHue | 0 |
RedSaturation | 0 |
ScaleFactor35efl | 4.8 |
SceneCaptureType | Standard |
SensingMethod | One-chip color area |
Shadows | 0 |
ShadowTint | 0 |
SharpenDetail | 25 |
SharpenEdgeMasking | 0 |
SharpenRadius | +1.0 |
Sharpness | 0 |
ShutterSpeed | 1/160 |
ShutterSpeedValue | 1/160 |
SplitToningBalance | 0 |
SplitToningHighlightHue | 0 |
SplitToningHighlightSaturation | 0 |
SplitToningShadowHue | 0 |
SplitToningShadowSaturation | 0 |
ToneCurve | 0, 0, 255, 255 |
ToneCurveName | Linear |
Version | 5.3 |
VignetteAmount | 0 |
WhiteBalance (2) | As Shot |
WhiteBalance | Auto |