Felt | Verdi |
AlreadyApplied | True |
Aperture | 22.0 |
ApertureValue | 22.0 |
Artist | wenche@roro.no |
BitsPerSample | 8 |
BlueHue | 0 |
BlueSaturation | 0 |
Brightness | +50 |
By-line | wenche@roro.no |
CameraProfile | Adobe Standard |
CFAPattern | [Red,Green][Green,Blue] |
ChromaticAberrationB | 0 |
ChromaticAberrationR | 0 |
CircleOfConfusion | 0.030 mm |
Clarity | +50 |
ColorComponents | 3 |
ColorMode | RGB |
ColorNoiseReduction | 25 |
ColorSpace | sRGB |
ColorTemperature | 5300 |
Contrast (2) | +25 |
Contrast | Normal |
ConvertToGrayscale | False |
Copyright | Venche Jensen©2009 |
CopyrightNotice | Venche Jensen©2009 |
CreateDate (1) | 2009:07:11 20:44:02.67+02:00 |
CreateDate | 2009:07:11 20:44:02 |
Creator | wenche@roro.no, Venche Jensen |
CreatorTool | Ver.2.01 |
CropAngle | 0 |
CropBottom | 1 |
CropLeft | 0.240305 |
CropRight | 0.972992 |
CropTop | 0.109261 |
CustomRendered | Normal |
DateTimeDigitized | 2009:07:11 20:44:02.67+02:00 |
DateTimeOriginal (1) | 2009:07:11 20:44:02.67+02:00 |
DateTimeOriginal | 2009:07:11 20:44:02 |
Defringe | 0 |
DigitalZoomRatio | 1 |
ExifImageHeight | 966 |
ExifImageWidth | 1187 |
Exposure | 0.00 |
ExposureCompensation | 0 |
ExposureMode | Manual |
ExposureProgram | Manual |
ExposureTime | 1/4 |
FillLight | 21 |
Flash | No Flash |
FlashFired | False |
FlashFunction | False |
FlashMode | Unknown |
FlashRedEyeMode | False |
FlashReturn | No return detection |
FNumber | 22.0 |
FocalLength | 70.0 mm |
FocalLength35efl | 70.0 mm (35 mm equivalent: 70.0 mm) |
FocalLengthIn35mmFormat | 70 mm |
Format | image/jpeg |
FOV | 28.8 deg |
GainControl | None |
GreenHue | 0 |
GreenSaturation | 0 |
HasCrop | True |
HasSettings | True |
HighlightRecovery | 0 |
HueAdjustmentAqua | 0 |
HueAdjustmentBlue | 0 |
HueAdjustmentGreen | 0 |
HueAdjustmentMagenta | 0 |
HueAdjustmentOrange | 0 |
HueAdjustmentPurple | 0 |
HueAdjustmentRed | 0 |
HueAdjustmentYellow | 0 |
HyperfocalDistance | 7.41 m |
ICCProfileName | sRGB IEC61966-2.1 |
ImageHeight (1) | 3641 |
ImageHeight | 966 |
ImageNumber | 19520 |
ImageSize | 1187x966 |
ImageWidth (1) | 4502 |
ImageWidth | 1187 |
ISO | 250 |
Lens | 24.0-70.0 mm f/2.8 |
LensInfo | 24-70mm f/2.8 |
LightSource | Unknown |
LightValue | 9.6 |
LuminanceAdjustmentAqua | -20 |
LuminanceAdjustmentBlue | -45 |
LuminanceAdjustmentGreen | +9 |
LuminanceAdjustmentMagenta | 0 |
LuminanceAdjustmentOrange | 0 |
LuminanceAdjustmentPurple | 0 |
LuminanceAdjustmentRed | 0 |
LuminanceAdjustmentYellow | +20 |
LuminanceSmoothing | 0 |
Make | NIKON CORPORATION |
MaxApertureValue | 2.8 |
Megapixels | 1.1 |
MeteringMode | Multi-segment |
Model | NIKON D3 |
ModifyDate (1) | 2009:07:12 11:17:56+02:00 |
ModifyDate | 2009:07:12 11:17:56 |
Orientation | Horizontal (normal) |
ParametricDarks | -10 |
ParametricHighlights | 0 |
ParametricHighlightSplit | 75 |
ParametricLights | 0 |
ParametricMidtoneSplit | 50 |
ParametricShadows | 0 |
ParametricShadowSplit | 25 |
PostCropVignetteAmount | 0 |
ProfileDescription | sRGB IEC61966-2.1 |
Rating | 5 |
RawFileName | _VEJ9371.NEF |
RedHue | 0 |
RedSaturation | 0 |
Rights | Venche Jensen©2009 |
Saturation (2) | +10 |
Saturation | Normal |
SaturationAdjustmentAqua | 0 |
SaturationAdjustmentBlue | 0 |
SaturationAdjustmentGreen | 0 |
SaturationAdjustmentMagenta | 0 |
SaturationAdjustmentOrange | 0 |
SaturationAdjustmentPurple | 0 |
SaturationAdjustmentRed | 0 |
SaturationAdjustmentYellow | 0 |
ScaleFactor35efl | 1.0 |
SceneCaptureType | Standard |
SceneType | Directly photographed |
SensingMethod | One-chip color area |
SerialNumber | 2037256 |
Shadows | 5 |
ShadowTint | 0 |
SharpenDetail | 25 |
SharpenEdgeMasking | 0 |
SharpenRadius | +1.0 |
Sharpness (2) | 25 |
Sharpness | Normal |
ShutterSpeed | 1/4 |
ShutterSpeedValue | 1/4 |
Software | Adobe Photoshop CS4 Macintosh |
SplitToningBalance | 0 |
SplitToningHighlightHue | 0 |
SplitToningHighlightSaturation | 0 |
SplitToningShadowHue | 0 |
SplitToningShadowSaturation | 0 |
SubjectDistanceRange | Unknown |
Tint | -7 |
ToneCurve | 0, 0, 32, 22, 64, 56, 128, 128, 192, 196, 255, 255 |
ToneCurveName | Medium Contrast |
URL_List | |
Version | 5.3 |
Vibrance | +20 |
VignetteAmount | 0 |
WhiteBalance (2) | As Shot |
WhiteBalance | Manual |