Felt | Verdi |
AlreadyApplied | True |
Aperture | 6.3 |
ApertureValue | 6.3 |
Artist | Daniel Manne |
BitsPerSample | 8 |
BlueHue | 0 |
BlueSaturation | 0 |
Brightness | +50 |
By-line | Daniel Manne |
CameraProfile | Adobe Standard |
ChromaticAberrationB | 0 |
ChromaticAberrationR | 0 |
CircleOfConfusion | 0.019 mm |
Clarity | +26 |
ColorComponents | 3 |
ColorNoiseReduction | 25 |
ColorTemperature | 4850 |
Contrast | +25 |
ConvertToGrayscale | False |
CreateDate (1) | 2009:03:20 08:31:56.03+01:00 |
CreateDate | 2009:03:20 08:31:56 |
Creator | Daniel Manne |
CreatorTool | Adobe Photoshop Lightroom |
CustomRendered | Normal |
DateTimeDigitized | 2009:03:20 08:31:56.03+01:00 |
DateTimeOriginal (1) | 2009:03:20 08:31:56.03+01:00 |
DateTimeOriginal | 2009:03:20 08:31:56 |
Defringe | 0 |
DOF | 14.46 m (26.90 - 41.36 m) |
ExifImageHeight | 750 |
ExifImageWidth | 500 |
Exposure | -0.10 |
ExposureCompensation | 0 |
ExposureMode | Auto |
ExposureProgram | Aperture-priority AE |
ExposureTime | 1/50 |
FillLight | 0 |
Firmware | 1.0.9 |
Flash | Off, Did not fire |
FlashCompensation | 0 |
FlashFired | False |
FlashFunction | False |
FlashMode | Off |
FlashRedEyeMode | False |
FlashReturn | No return detection |
FNumber | 6.3 |
FocalLength | 134.0 mm |
FocalLength35efl | 134.0 mm (35 mm equivalent: 216.5 mm) |
FOV | 9.5 deg |
GreenHue | 0 |
GreenSaturation | 0 |
HasCrop | False |
HasSettings | True |
HighlightRecovery | 100 |
HueAdjustmentAqua | 0 |
HueAdjustmentBlue | 0 |
HueAdjustmentGreen | 0 |
HueAdjustmentMagenta | 0 |
HueAdjustmentOrange | 0 |
HueAdjustmentPurple | 0 |
HueAdjustmentRed | 0 |
HueAdjustmentYellow | 0 |
HyperfocalDistance | 153.23 m |
ImageHeight | 750 |
ImageNumber | 0 |
ImageSize | 500x750 |
ImageWidth | 500 |
ISO | 200 |
Keywords | 2009, London |
Lens | 18-200mm |
LensInfo | 18-200mm f/? |
LightValue | 10.0 |
LuminanceAdjustmentAqua | 0 |
LuminanceAdjustmentBlue | 0 |
LuminanceAdjustmentGreen | 0 |
LuminanceAdjustmentMagenta | 0 |
LuminanceAdjustmentOrange | 0 |
LuminanceAdjustmentPurple | 0 |
LuminanceAdjustmentRed | 0 |
LuminanceAdjustmentYellow | 0 |
LuminanceSmoothing | 10 |
Make | Canon |
MaxApertureValue | 5.9 |
Megapixels | 0.375 |
MeteringMode | Spot |
Model | Canon EOS 450D |
ModifyDate (1) | 2010:03:20 10:52:59+01:00 |
ModifyDate | 2010:03:20 10:52:59 |
OwnerName | Daniel Manne |
ParametricDarks | -16 |
ParametricHighlights | +58 |
ParametricHighlightSplit | 75 |
ParametricLights | 0 |
ParametricMidtoneSplit | 50 |
ParametricShadows | 0 |
ParametricShadowSplit | 25 |
PostCropVignetteAmount | 0 |
ProfileDescription | Adobe RGB (1998) |
Rating | 3 |
RedHue | 0 |
RedSaturation | 0 |
Saturation | +21 |
SaturationAdjustmentAqua | 0 |
SaturationAdjustmentBlue | 0 |
SaturationAdjustmentGreen | 0 |
SaturationAdjustmentMagenta | 0 |
SaturationAdjustmentOrange | 0 |
SaturationAdjustmentPurple | 0 |
SaturationAdjustmentRed | 0 |
SaturationAdjustmentYellow | 0 |
ScaleFactor35efl | 1.6 |
SceneCaptureType | Standard |
SerialNumber | 1080394285 |
Shadows | 10 |
ShadowTint | 0 |
SharpenDetail | 25 |
SharpenEdgeMasking | 4 |
SharpenRadius | +1.0 |
Sharpness | 64 |
ShutterSpeed | 1/50 |
ShutterSpeedValue | 1/50 |
SplitToningBalance | 0 |
SplitToningHighlightHue | 0 |
SplitToningHighlightSaturation | 0 |
SplitToningShadowHue | 0 |
SplitToningShadowSaturation | 0 |
Subject | 2009, London |
SubjectDistance | 32.6 m |
Tint | +28 |
ToneCurve | 0, 0, 32, 22, 64, 56, 128, 128, 192, 196, 255, 255 |
ToneCurveName | Medium Contrast |
Version | 5.6.1 |
Vibrance | 0 |
VignetteAmount | 0 |
WhiteBalance (2) | As Shot |
WhiteBalance | Auto |