Felt | Verdi |
AlreadyApplied | True |
Aperture | 13.0 |
ApertureValue | 13.0 |
BitsPerSample | 8 |
BlueHue | 0 |
BlueSaturation | -1 |
Brightness | +54 |
CameraProfile | ACR 3.3 |
ChromaticAberrationB | +63 |
ChromaticAberrationR | -43 |
CircleOfConfusion | 0.030 mm |
ColorComponents | 1 |
ColorMode | Grayscale |
ColorSpace (1) | Unknown (-1) |
ColorSpace | Uncalibrated |
ColorTemperature | 4400 |
Contrast | +44 |
ConvertToGrayscale | True |
CopyrightFlag | False |
CreateDate (1) | 2010:08:22 23:33:59+02:00 |
CreateDate | 2010:08:18 18:54:17 |
CreatorTool | Adobe Photoshop CS3 Windows |
CustomRendered | Normal |
DateTimeDigitized | 2010:08:18 18:54:17+02:00 |
DateTimeOriginal (1) | 2010:08:18 18:54:17+02:00 |
DateTimeOriginal | 2010:08:18 18:54:17 |
ExifImageHeight | 900 |
ExifImageWidth | 600 |
Exposure | 0.00 |
ExposureCompensation | 0 |
ExposureMode | Manual |
ExposureProgram | Manual |
ExposureTime | 1/125 |
FillLight | 0 |
Firmware | 1.1.0 |
Flash | Off, Did not fire |
FlashCompensation | 0 |
FlashFired | False |
FlashFunction | False |
FlashMode | Off |
FlashRedEyeMode | False |
FlashReturn | No return detection |
FNumber | 13.0 |
FocalLength | 85.0 mm |
FocalLength35efl | 85.0 mm (35 mm equivalent: 85.2 mm) |
Format | image/jpeg |
FOV | 23.9 deg |
GrayMixerAqua | -15 |
GrayMixerBlue | +18 |
GrayMixerGreen | -27 |
GrayMixerMagenta | +3 |
GrayMixerOrange | -12 |
GrayMixerPurple | +16 |
GrayMixerRed | -18 |
GrayMixerYellow | -4 |
GreenHue | 0 |
GreenSaturation | +84 |
HasCrop | False |
HasSettings | True |
HighlightRecovery | 0 |
HyperfocalDistance | 18.54 m |
ICCProfileName | Gray Gamma 2.2 |
ImageHeight | 900 |
ImageNumber | 8 |
ImageSize | 600x900 |
ImageWidth | 600 |
ISO | 100 |
Lens | EF85mm f/1.8 USM |
LensInfo | 85mm f/? |
LightValue | 14.4 |
LuminanceSmoothing | 0 |
Make | Canon |
MaxApertureValue | 1.8 |
Megapixels | 0.540 |
MeteringMode | Spot |
Model | Canon EOS 5D |
ModifyDate (1) | 2010:08:22 23:33:59+02:00 |
ModifyDate | 2010:08:22 23:33:59 |
Orientation | Horizontal (normal) |
ParametricDarks | +25 |
ParametricHighlights | -100 |
ParametricHighlightSplit | 90 |
ParametricLights | 0 |
ParametricMidtoneSplit | 48 |
ParametricShadows | -16 |
ParametricShadowSplit | 23 |
ProfileDescription | Gray Gamma 2.2 |
Rating | 0 |
RawFileName | IMG_6976.CR2 |
RedHue | +78 |
RedSaturation | -18 |
ScaleFactor35efl | 1.0 |
SceneCaptureType | Standard |
SerialNumber | 3031204700 |
Shadows | 5 |
ShadowTint | +7 |
Sharpness | 25 |
ShutterSpeed | 1/125 |
ShutterSpeedValue | 1/125 |
SidecarForExtension | CR2 |
Software | Adobe Photoshop CS3 Windows |
SplitToningBalance | -12 |
SplitToningHighlightHue | 0 |
SplitToningHighlightSaturation | 0 |
SplitToningShadowHue | 0 |
SplitToningShadowSaturation | 0 |
TimeZoneOffset | 2 2 |
Tint | -17 |
ToneCurve | 0, 0, 32, 22, 64, 56, 128, 128, 192, 196, 255, 255 |
ToneCurveName | Medium Contrast |
URL_List | |
Version | 4.0 |
VignetteAmount | -88 |
VignetteMidpoint | 50 |
WhiteBalance (2) | Custom |
WhiteBalance | Manual |