Felt | Verdi |
AlreadyApplied | True |
Aperture | 8.0 |
ApertureValue | 8.0 |
BitsPerSample | 8 |
BlueHue | 0 |
BlueSaturation | 0 |
Brightness | +81 |
CameraProfile | Adobe Standard |
ChromaticAberrationB | 0 |
ChromaticAberrationR | 0 |
CircleOfConfusion | 0.031 mm |
Clarity | -11 |
ColorComponents | 3 |
ColorMode | RGB |
ColorNoiseReduction | 25 |
ColorSpace | sRGB |
ColorTemperature | 5300 |
Contrast | +46 |
ConvertToGrayscale | False |
CopyrightFlag | False |
CreateDate (1) | 2011:03:20 16:47:48+01:00 |
CreateDate | 2011:03:19 16:36:50 |
CreatorTool | Adobe Photoshop Elements 6.0 Macintosh |
CropAngle | 0 |
CropBottom | 0.843137 |
CropLeft | 0.307491 |
CropRight | 0.552265 |
CropTop | 0.279739 |
CustomRendered | Normal |
DateTimeDigitized | 2011:03:19 16:36:50.39+01:00 |
DateTimeOriginal (1) | 2011:03:19 16:36:50.39+01:00 |
DateTimeOriginal | 2011:03:19 16:36:50 |
Defringe | 0 |
ExifImageHeight | 2109 |
ExifImageWidth | 1375 |
Exposure | -0.05 |
ExposureCompensation | +4/3 |
ExposureMode | Auto |
ExposureProgram | Aperture-priority AE |
ExposureTime | 1/400 |
FillLight | 28 |
Firmware | 2.0.7 |
Flash | Off, Did not fire |
FlashCompensation | 0 |
FlashFired | False |
FlashFunction | False |
FlashMode | Off |
FlashRedEyeMode | False |
FlashReturn | No return detection |
FNumber | 8.0 |
FocalLength | 400.0 mm |
FocalLength35efl | 400.0 mm (35 mm equivalent: 390.4 mm) |
Format | image/jpeg |
FOV | 5.3 deg |
GreenHue | 0 |
GreenSaturation | 0 |
HasCrop | True |
HasSettings | True |
HighlightRecovery | 0 |
HueAdjustmentAqua | 0 |
HueAdjustmentBlue | 0 |
HueAdjustmentGreen | 0 |
HueAdjustmentMagenta | 0 |
HueAdjustmentOrange | 0 |
HueAdjustmentPurple | 0 |
HueAdjustmentRed | 0 |
HueAdjustmentYellow | 0 |
HyperfocalDistance | 649.62 m |
ICCProfileName | sRGB IEC61966-2.1 |
ImageHeight | 2109 |
ImageNumber | 0 |
ImageSize | 1375x2109 |
ImageWidth | 1375 |
ISO | 500 |
Lens | EF70-200mm f/2.8L IS II USM +2.0x |
LensInfo | 140-400mm f/? |
LightValue | 12.3 |
LuminanceAdjustmentAqua | 0 |
LuminanceAdjustmentBlue | 0 |
LuminanceAdjustmentGreen | 0 |
LuminanceAdjustmentMagenta | 0 |
LuminanceAdjustmentOrange | 0 |
LuminanceAdjustmentPurple | 0 |
LuminanceAdjustmentRed | 0 |
LuminanceAdjustmentYellow | 0 |
LuminanceSmoothing | 0 |
Make | Canon |
MaxApertureValue | 5.7 |
Megapixels | 2.9 |
MeteringMode | Multi-segment |
Model | Canon EOS 5D Mark II |
ModifyDate (1) | 2011:03:20 16:47:48+01:00 |
ModifyDate | 2011:03:20 16:47:48 |
Orientation | Horizontal (normal) |
ParametricDarks | 0 |
ParametricHighlights | 0 |
ParametricHighlightSplit | 75 |
ParametricLights | 0 |
ParametricMidtoneSplit | 50 |
ParametricShadows | 0 |
ParametricShadowSplit | 25 |
PostCropVignetteAmount | 0 |
ProfileDescription | sRGB IEC61966-2.1 |
Rating | 0 |
RawFileName | Flaggspett.CR2 |
RedHue | 0 |
RedSaturation | 0 |
Saturation | 0 |
SaturationAdjustmentAqua | 0 |
SaturationAdjustmentBlue | 0 |
SaturationAdjustmentGreen | 0 |
SaturationAdjustmentMagenta | 0 |
SaturationAdjustmentOrange | 0 |
SaturationAdjustmentPurple | 0 |
SaturationAdjustmentRed | 0 |
SaturationAdjustmentYellow | 0 |
ScaleFactor35efl | 1.0 |
SceneCaptureType | Standard |
SerialNumber | 1430808023 |
Shadows | 5 |
ShadowTint | 0 |
SharpenDetail | 25 |
SharpenEdgeMasking | 0 |
SharpenRadius | +1.0 |
Sharpness | 25 |
ShutterSpeed | 1/400 |
ShutterSpeedValue | 1/400 |
SidecarForExtension | CR2 |
Software | Adobe Photoshop Elements 6.0 Macintosh |
SplitToningBalance | 0 |
SplitToningHighlightHue | 0 |
SplitToningHighlightSaturation | 0 |
SplitToningShadowHue | 0 |
SplitToningShadowSaturation | 0 |
Tint | -3 |
ToneCurve | 0, 0, 32, 22, 64, 56, 128, 128, 192, 196, 255, 255 |
ToneCurveName | Medium Contrast |
URL_List | |
Version | 5.2 |
Vibrance | 0 |
VignetteAmount | 0 |
WhiteBalance (2) | As Shot |
WhiteBalance | Auto |