Felt | Verdi |
AlreadyApplied | True |
Aperture | 7.1 |
ApertureValue | 7.1 |
ApproximateFocusDistance | 2.26 |
Artist | Frode Langdalen |
BitsPerSample | 8 |
BlueHue | 0 |
BlueSaturation | 0 |
Brightness | +50 |
By-line | Frode Langdalen |
CameraProfile | Adobe Standard |
ChromaticAberrationB | 0 |
ChromaticAberrationR | 0 |
CircleOfConfusion | 0.019 mm |
Clarity | +60 |
ColorComponents | 3 |
ColorMode | RGB |
ColorNoiseReduction | 25 |
ColorNoiseReductionDetail | 50 |
ColorSpace | sRGB |
ColorTemperature | 5500 |
Contrast | +25 |
ConvertToGrayscale | False |
Copyright | Frode Langdalen |
CopyrightFlag | True |
CopyrightNotice | Frode Langdalen |
CreateDate (1) | 2011:07:03 13:58:06.39 |
CreateDate | 2011:07:03 13:58:06 |
Creator | Frode Langdalen |
CreatorAddress | Hovinvegen 108 2410 HERNES |
CreatorCity | HERNES |
CreatorCountry | NORWAY |
CreatorPostalCode | 2410 |
CreatorWorkTelephone | +4791127592 |
CropAngle | 0 |
CropBottom | 1 |
CropConstrainToWarp | 1 |
CropLeft | 0 |
CropRight | 0.711444 |
CropTop | 0.202985 |
CustomRendered | Normal |
DateCreated | 2011:07:03 |
DateTimeDigitized | 2011:07:03 13:58:06+02:00 |
DateTimeOriginal (1) | 2011:07:03 13:58:06.39 |
DateTimeOriginal | 2011:07:03 13:58:06 |
Defringe | 0 |
DOF | 0.03 m (2.24 - 2.28 m) |
ExifImageHeight | 779 |
ExifImageWidth | 1100 |
Exposure | 0.00 |
ExposureCompensation | +1 |
ExposureMode | Auto |
ExposureProgram | Aperture-priority AE |
ExposureTime | 1/3200 |
FillLight | 0 |
Firmware | 1.0.9 |
Flash | Off, Did not fire |
FlashCompensation | 0 |
FlashFired | False |
FlashFunction | False |
FlashMode | Off |
FlashRedEyeMode | False |
FlashReturn | No return detection |
FNumber | 7.1 |
FocalLength | 200.0 mm |
FocalLength35efl | 200.0 mm (35 mm equivalent: 317.6 mm) |
Format | image/jpeg |
FOV | 6.5 deg |
GrainAmount | 0 |
GreenHue | 0 |
GreenSaturation | 0 |
HasCrop | True |
HasSettings | True |
HighlightRecovery | 16 |
HueAdjustmentAqua | 0 |
HueAdjustmentBlue | 0 |
HueAdjustmentGreen | 0 |
HueAdjustmentMagenta | 0 |
HueAdjustmentOrange | 0 |
HueAdjustmentPurple | 0 |
HueAdjustmentRed | 0 |
HueAdjustmentYellow | 0 |
HyperfocalDistance | 297.72 m |
ICCProfileName | sRGB IEC61966-2.1 |
ImageHeight | 779 |
ImageNumber | 0 |
ImageSize | 1100x779 |
ImageWidth | 1100 |
ISO | 1600 |
Lens | EF-S18-200mm f/3.5-5.6 IS |
LensID (1) | 50 |
LensID | Canon EF-S 18-200mm f/3.5-5.6 IS |
LensInfo | 18-200mm f/? |
LensManualDistortionAmount | 0 |
LensModel | EF-S18-200mm f/3.5-5.6 IS |
LensProfileEnable | 0 |
LensProfileSetup | LensDefaults |
LightValue | 13.3 |
LuminanceAdjustmentAqua | 0 |
LuminanceAdjustmentBlue | 0 |
LuminanceAdjustmentGreen | 0 |
LuminanceAdjustmentMagenta | 0 |
LuminanceAdjustmentOrange | 0 |
LuminanceAdjustmentPurple | 0 |
LuminanceAdjustmentRed | 0 |
LuminanceAdjustmentYellow | 0 |
LuminanceSmoothing | 0 |
Make | Canon |
Marked | True |
MaxApertureValue | 5.7 |
Megapixels | 0.857 |
MeteringMode | Center-weighted average |
Model | Canon EOS 500D |
ModifyDate (1) | 2011:07:05 19:05:44+02:00 |
ModifyDate | 2011:07:05 19:05:44 |
Orientation | Horizontal (normal) |
ParametricDarks | 0 |
ParametricHighlights | 0 |
ParametricHighlightSplit | 75 |
ParametricLights | 0 |
ParametricMidtoneSplit | 50 |
ParametricShadows | 0 |
ParametricShadowSplit | 25 |
PerspectiveHorizontal | 0 |
PerspectiveRotate | 0.0 |
PerspectiveScale | 100 |
PerspectiveVertical | 0 |
PostCropVignetteAmount | 0 |
ProcessVersion | 5.7 |
ProfileDescription | sRGB IEC61966-2.1 |
Rating | 0 |
RawFileName | _MG_2436.CR2 |
RedHue | 0 |
RedSaturation | 0 |
Rights | Frode Langdalen |
Saturation | 0 |
SaturationAdjustmentAqua | 0 |
SaturationAdjustmentBlue | 0 |
SaturationAdjustmentGreen | 0 |
SaturationAdjustmentMagenta | 0 |
SaturationAdjustmentOrange | 0 |
SaturationAdjustmentPurple | 0 |
SaturationAdjustmentRed | 0 |
SaturationAdjustmentYellow | 0 |
ScaleFactor35efl | 1.6 |
SceneCaptureType | Standard |
SerialNumber | 880238403 |
Shadows | 5 |
ShadowTint | 0 |
SharpenDetail | 25 |
SharpenEdgeMasking | 0 |
SharpenRadius | +1.0 |
Sharpness | 25 |
ShutterSpeed | 1/3200 |
ShutterSpeedValue | 1/3200 |
Software | Adobe Photoshop Elements 9.0 Windows |
SplitToningBalance | 0 |
SplitToningHighlightHue | 0 |
SplitToningHighlightSaturation | 0 |
SplitToningShadowHue | 0 |
SplitToningShadowSaturation | 0 |
SubjectDistance | 2.26 m |
Tint | +15 |
ToneCurve | 0, 0, 32, 22, 64, 56, 128, 128, 192, 196, 255, 255 |
ToneCurveName | Medium Contrast |
URL_List | |
Version | 6.4.1 |
Vibrance | +25 |
VignetteAmount | 0 |
WhiteBalance (2) | As Shot |
WhiteBalance | Auto |