Felt | Verdi |
2011-11-19T00:46:32+01:00 File D:\Mine bilder\Nikon D3S\NOv 2011 Gran Canaria\edited_DSC1356.psd saved
2011-11-19T11:37:45+01:00 File edited_DSC1356.psd opened
2011-11-19T11:47:52+01:00 File D:\Mine bilder\Nikon D3S\NOv 2011 Gran Canaria\edited_DSC1356.psd saved
2011-11-19T14:59:46+01:00 File edited_DSC1356.psd opened
2011-11-19T15:03:40+01:00 File D:\Mine bilder\Nikon D3S\NOv 2011 Gran Canaria\edited_DSC1356.psd saved
2011-11-19T15:03:40+01:00 File edited_DSC1356.psd closed
2011-11-19T15:09:07+01:00 File edited_DSC1356.psd opened
2011-11-19T15:12:18+01:00 File D:\Mine bilder\Nikon D3S\NOv 2011 Gran Canaria\edited_DSC1356.psd saved
2011-11-19T15:12:18+01:00 File edited_DSC1356.psd closed
2011-11-19T19:25:36+01:00 File edited_DSC1356.psd opened
2011-11-19T19:26:23+01:00 File D:\Mine bilder\Nikon D3S\NOv 2011 Gran Canaria\Sand og steiner på strand.jpg saved
AlreadyApplied | True |
Aperture | 13.0 |
ApertureValue | 13.0 |
ApproximateFocusDistance | 25.1 |
Artist | Robin Bjerkhaug |
Auto Color
Auto Contrast
Auto Tone
BitsPerSample | 8 |
BlueHue | 0 |
BlueSaturation | 0 |
Brightness | +51 |
Brightness/Contrast 1 Layer
By-line | Robin Bjerkhaug |
CameraProfile | Adobe Standard |
CFAPattern | [Red,Green][Green,Blue] |
ChromaticAberrationB | 0 |
ChromaticAberrationR | 0 |
CircleOfConfusion | 0.030 mm |
Clarity | +39 |
ColorComponents | 3 |
ColorMode | RGB |
ColorNoiseReduction | 25 |
ColorNoiseReductionDetail | 50 |
ColorSpace | Uncalibrated |
ColorTemperature | 4850 |
Contrast (1) | +32 |
Contrast | Normal |
ConvertToGrayscale | False |
Copyright | Robin Bjerkhaug |
CopyrightNotice | Robin Bjerkhaug |
CreateDate (1) | 2011:11:13 18:22:23.32+01:00 |
CreateDate | 2011:11:13 18:22:23 |
Creator | Robin Bjerkhaug, Robin Bjerkhaug |
CreatorTool | Adobe Photoshop CS5.1 Windows |
Crop
CustomRendered | Normal |
DateCreated (1) | 2011:11:13 |
DateCreated | 2011:11:13 18:22:23.032+01:00 |
DateTimeOriginal | 2011:11:13 18:22:23 |
Defringe | 0 |
DigitalZoomRatio | 1 |
DOF | 12.97 m (20.19 - 33.16 m) |
ExifImageHeight | 1948 |
ExifImageWidth | 2860 |
Exposure | 0.00 |
ExposureCompensation | 0 |
ExposureMode | Auto |
ExposureProgram | Aperture-priority AE |
ExposureTime | 1/320 |
FillLight | 0 |
Flash | No Flash |
FNumber | 13.0 |
FocalLength | 200.0 mm |
FocalLength35efl | 200.0 mm (35 mm equivalent: 200.0 mm) |
FocalLengthIn35mmFormat | 200 mm |
Format | image/jpeg |
FOV | 10.3 deg |
GainControl | Low gain up |
GrainAmount | 0 |
GreenHue | 0 |
GreenSaturation | 0 |
HasCrop | False |
HasSettings | True |
HDR Toning
HighlightRecovery | 18 |
HueAdjustmentAqua | 0 |
HueAdjustmentBlue | 0 |
HueAdjustmentGreen | 0 |
HueAdjustmentMagenta | 0 |
HueAdjustmentOrange | 0 |
HueAdjustmentPurple | 0 |
HueAdjustmentRed | 0 |
HueAdjustmentYellow | 0 |
HyperfocalDistance | 102.41 m |
ICCProfileName | Adobe RGB (1998) |
Image Size
ImageHeight | 1948 |
ImageNumber | 1498 |
ImageSize | 2860x1948 |
ImageWidth | 2860 |
ISO | 800 |
Lens | 70.0-200.0 mm f/2.8 |
LensID (1) | 156 |
LensID | Sigma 70-200mm F2.8 EX DG OS HSM |
LensInfo | 70-200mm f/2.8 |
LensManualDistortionAmount | 0 |
LensModel | 70.0-200.0 mm f/2.8 |
LensProfileChromaticAberrationScale | 100 |
LensProfileDistortionScale | 100 |
LensProfileEnable | 1 |
LensProfileFilename | NIKON CORPORATION (SIGMA APO 70-200mm F2.8 EX DG OS HSM) - RAW.lcp |
LensProfileName | Adobe (SIGMA APO 70-200mm F2.8 EX DG OS HSM, NIKON CORPORATION) |
LensProfileSetup | LensDefaults |
LensProfileVignettingScale | 100 |
Levels 1 Layer
LightSource | Unknown |
LightValue | 12.7 |
LuminanceAdjustmentAqua | 0 |
LuminanceAdjustmentBlue | 0 |
LuminanceAdjustmentGreen | 0 |
LuminanceAdjustmentMagenta | 0 |
LuminanceAdjustmentOrange | 0 |
LuminanceAdjustmentPurple | 0 |
LuminanceAdjustmentRed | 0 |
LuminanceAdjustmentYellow | 0 |
LuminanceSmoothing | 0 |
Make | NIKON CORPORATION |
MaxApertureValue | 2.8 |
Megapixels | 5.6 |
MeteringMode | Multi-segment |
Model | NIKON D3S |
Modify Brightness/Contrast Layer
Modify Levels Layer
ModifyDate (1) | 2011:11:19 19:26:23+01:00 |
ModifyDate | 2011:11:19 19:26:23 |
Orientation | Horizontal (normal) |
ParametricDarks | 0 |
ParametricHighlights | 0 |
ParametricHighlightSplit | 75 |
ParametricLights | 0 |
ParametricMidtoneSplit | 50 |
ParametricShadows | 0 |
ParametricShadowSplit | 25 |
PerspectiveHorizontal | 0 |
PerspectiveRotate | 0.0 |
PerspectiveScale | 100 |
PerspectiveVertical | 0 |
PostCropVignetteAmount | 0 |
ProcessVersion | 5.7 |
ProfileDescription | Adobe RGB (1998) |
Rating | 0 |
RawFileName | _DSC1356.NEF |
RedHue | 0 |
RedSaturation | 0 |
Rights | Robin Bjerkhaug |
Saturation (1) | +29 |
Saturation | Normal |
SaturationAdjustmentAqua | 0 |
SaturationAdjustmentBlue | 0 |
SaturationAdjustmentGreen | 0 |
SaturationAdjustmentMagenta | 0 |
SaturationAdjustmentOrange | 0 |
SaturationAdjustmentPurple | 0 |
SaturationAdjustmentRed | 0 |
SaturationAdjustmentYellow | 0 |
ScaleFactor35efl | 1.0 |
SceneCaptureType | Standard |
SceneType | Directly photographed |
SensingMethod | One-chip color area |
SerialNumber | 2057968 |
Shadows | 6 |
ShadowTint | 0 |
Sharpen
Sharpen Edges
Sharpen More
SharpenDetail | 25 |
SharpenEdgeMasking | 0 |
SharpenRadius | +1.0 |
Sharpness (1) | 25 |
Sharpness | Normal |
ShutterSpeed | 1/320 |
ShutterSpeedValue | 1/320 |
Software | Adobe Photoshop CS5.1 Windows |
SplitToningBalance | 0 |
SplitToningHighlightHue | 0 |
SplitToningHighlightSaturation | 0 |
SplitToningShadowHue | 0 |
SplitToningShadowSaturation | 0 |
Spot Healing Brush
SubjectDistance | 25.1 m |
SubjectDistanceRange | Unknown |
Tint | +20 |
ToneCurve | 0, 0, 32, 22, 64, 56, 128, 128, 192, 196, 255, 255 |
ToneCurveName | Medium Contrast |
URL_List | |
Version | 6.5 |
Vibrance | +48 |
VignetteAmount | 0 |
WhiteBalance (1) | As Shot |
WhiteBalance | Auto |