Felt | Verdi |
AlreadyApplied | True |
Aperture | 11.0 |
ApertureValue | 11.0 |
BitsPerSample | 8 |
BlackClip | 0.332900 |
BlueHue | 0 |
BlueSaturation | 0 |
Brightness | -5 |
CameraProfile | Embedded |
ChromaticAberrationB | 0 |
ChromaticAberrationR | 0 |
Clarity | +33 |
ColorComponents | 3 |
ColorNoiseReduction | 0 |
ColorSaturation | 67.0 |
ColorTemperature | 3.3 |
Contrast | +2 |
ConvertToGrayscale | False |
CreatorTool | Adobe Photoshop Lightroom 3.6 (Windows) |
CropAngle | -0.438111 |
CropBottom | 0.988658 |
CropConstrainToWarp | 0 |
CropHeight | 3415 |
CropLeft | 0.003152 |
CropRight | 0.996848 |
CropTop | 0.011342 |
CropUnit | pixels |
CropWidth | 5123 |
DateCreated (1) | 2012:02:17 |
DateCreated | 2012:02:17 18:35:54 |
DateTimeOriginal | 2012:02:17 18:35:54 |
Defringe | 0 |
Exposure | -0.14 |
ExposureTime | 0.6 |
FillLight | 0 |
FNumber | 11.0 |
FocalLength | 15.0 mm |
FocalLength35efl | 15.0 mm |
Format | image/jpeg |
Gamma | 1.12 |
GrainAmount | 0 |
GreenHue | 0 |
GreenSaturation | 0 |
HasCrop | True |
HasSettings | True |
HighlightRecovery | 0 |
HighlightsSmoothing | 10.0 |
HueAdjustmentAqua | 0 |
HueAdjustmentBlue | 0 |
HueAdjustmentGreen | 0 |
HueAdjustmentMagenta | 0 |
HueAdjustmentOrange | 0 |
HueAdjustmentPurple | 0 |
HueAdjustmentRed | 0 |
HueAdjustmentYellow | 0 |
ImageHeight | 3415 |
ImageSize | 5123x3415 |
ImageWidth | 5123 |
IncrementalTemperature | 0 |
IncrementalTint | 0 |
ISO | 250 |
IsPano360 | No |
LensManualDistortionAmount | 0 |
LensProfileEnable | 0 |
LensProfileSetup | LensDefaults |
LightValue | 6.3 |
LuminanceAdjustmentAqua | 0 |
LuminanceAdjustmentBlue | 0 |
LuminanceAdjustmentGreen | 0 |
LuminanceAdjustmentMagenta | 0 |
LuminanceAdjustmentOrange | 0 |
LuminanceAdjustmentPurple | 0 |
LuminanceAdjustmentRed | 0 |
LuminanceAdjustmentYellow | 0 |
LuminanceNoiseReductionContrast | 0 |
LuminanceNoiseReductionDetail | 62 |
LuminanceSmoothing | 34 |
Luminosity | 5.0 |
Megapixels | 17.5 |
Method | Details Enhancer |
Microcontrast | -2.6 |
Microsmoothing | 2.0 |
Model | Canon EOS 7D |
ModifyDate (1) | 2012:02:18 19:29:48+01:00 |
ModifyDate | 2012:02:18 19:29:48 |
ParametricDarks | 0 |
ParametricHighlights | 0 |
ParametricHighlightSplit | 75 |
ParametricLights | 0 |
ParametricMidtoneSplit | 50 |
ParametricShadows | 0 |
ParametricShadowSplit | 25 |
PerspectiveHorizontal | 0 |
PerspectiveRotate | 0.0 |
PerspectiveScale | 100 |
PerspectiveVertical | 0 |
PostCropVignetteAmount | 0 |
ProcessVersion | 5.7 |
ProfileDescription | sRGB IEC61966-2.1 |
RedHue | +26 |
RedSaturation | -20 |
Saturation | -1 |
SaturationAdjustmentAqua | 0 |
SaturationAdjustmentBlue | 0 |
SaturationAdjustmentGreen | 0 |
SaturationAdjustmentMagenta | 0 |
SaturationAdjustmentOrange | 0 |
SaturationAdjustmentPurple | 0 |
SaturationAdjustmentRed | 0 |
SaturationAdjustmentYellow | 0 |
SaturationHighlights | 0.0 |
SaturationShadows | 0.0 |
Shadows | 0 |
ShadowsClipping | 0.0 |
ShadowsSmoothing | 0.0 |
ShadowTint | 0 |
SharpenDetail | 53 |
SharpenEdgeMasking | 0 |
SharpenRadius | +0.8 |
Sharpness | 59 |
ShutterSpeed | 0.6 |
ShutterSpeedValue | 0.6 |
Smoothing | 1.2 |
SmoothingMode | Slider |
Software | Adobe Photoshop Lightroom 3.6 (Windows) |
SplitToningBalance | 0 |
SplitToningHighlightHue | 139 |
SplitToningHighlightSaturation | 16 |
SplitToningShadowHue | 83 |
SplitToningShadowSaturation | 9 |
Strength | 61.0 |
ToneCurve | 0, 0, 255, 255 |
ToneCurveName | Linear |
Version (1) | 4.1 |
Version | 6.6 |
Vibrance | +3 |
VignetteAmount | 0 |
WhiteBalance | As Shot |
WhiteClip | 0.951900 |