Felt | Verdi |
2012-09-14T13:20:57+02:00 File L:\pus\21jul2012\kråka10.jpg saved
AlreadyApplied | True |
Aperture | 9.0 |
ApertureValue | 9.0 |
ApproximateFocusDistance | 1.19 |
Artist | B.SKOGSET |
AutoLateralCA | 0 |
BitsPerSample | 8 |
Blacks2012 | 0 |
BlueHue | 0 |
BlueSaturation | 0 |
By-line | B.SKOGSET |
CameraProfile | Embedded |
CircleOfConfusion | 0.020 mm |
Clarity2012 | 0 |
ColorComponents | 3 |
ColorMode | RGB |
ColorNoiseReduction | 0 |
ColorSpace | Uncalibrated |
Contrast | Normal |
Contrast2012 | 0 |
ConvertToGrayscale | False |
CreateDate | 2012:07:21 14:17:24 |
Creator | B.SKOGSET |
CreatorTool | K-5 Ver 1.13 |
CustomRendered | Normal |
DateCreated (1) | 2012:07:21 |
DateCreated | 2012:07:21 14:17:24 |
DateTimeOriginal | 2012:07:21 14:17:24 |
DefringeGreenAmount | 0 |
DefringeGreenHueHi | 60 |
DefringeGreenHueLo | 40 |
DefringePurpleAmount | 0 |
DefringePurpleHueHi | 70 |
DefringePurpleHueLo | 30 |
DOF | 0.15 m (1.12 - 1.27 m) |
ExifImageHeight | 2896 |
ExifImageWidth | 3538 |
Exposure2012 | 0.00 |
ExposureCompensation | +1.3 |
ExposureMode | Manual |
ExposureProgram | Not Defined |
ExposureTime | 1/400 |
Flash | Off, Did not fire |
FNumber | 9.0 |
FocalLength | 57.5 mm |
FocalLength35efl | 57.5 mm (35 mm equivalent: 87.0 mm) |
FocalLengthIn35mmFormat | 87 mm |
Format | image/jpeg |
FOV | 23.4 deg |
GrainAmount | 0 |
GreenHue | 0 |
GreenSaturation | 0 |
HasCrop | False |
HasSettings | True |
HierarchicalSubject | Div.fugler |
Highlights2012 | -86 |
HueAdjustmentAqua | 0 |
HueAdjustmentBlue | 0 |
HueAdjustmentGreen | 0 |
HueAdjustmentMagenta | 0 |
HueAdjustmentOrange | 0 |
HueAdjustmentPurple | 0 |
HueAdjustmentRed | 0 |
HueAdjustmentYellow | 0 |
HyperfocalDistance | 18.50 m |
ICCProfileName | Adobe RGB (1998) |
ImageHeight | 2896 |
ImageSize | 3538x2896 |
ImageWidth | 3538 |
IncrementalTemperature | -11 |
IncrementalTint | -30 |
ISO | 4000 |
Keywords | Div.fugler |
Lens | smc PENTAX-DA 50-200mm F4-5.6 ED WR |
LensID (1) | 7 217 |
LensID | smc PENTAX-DA 50-200mm F4-5.6 ED WR |
LensInfo | 50-200mm f/4-5.6 |
LensManualDistortionAmount | 0 |
LensModel | smc PENTAX-DA 50-200mm F4-5.6 ED WR |
LensProfileEnable | 0 |
LensProfileSetup | LensDefaults |
LightValue | 9.7 |
LuminanceAdjustmentAqua | 0 |
LuminanceAdjustmentBlue | 0 |
LuminanceAdjustmentGreen | 0 |
LuminanceAdjustmentMagenta | 0 |
LuminanceAdjustmentOrange | 0 |
LuminanceAdjustmentPurple | 0 |
LuminanceAdjustmentRed | 0 |
LuminanceAdjustmentYellow | 0 |
LuminanceSmoothing | 0 |
Make | PENTAX |
Megapixels | 10.2 |
MeteringMode | Center-weighted average |
Model | PENTAX K-5 |
ModifyDate (1) | 2012:09:14 13:20:57+02:00 |
ModifyDate | 2012:09:14 13:20:57 |
Orientation | Horizontal (normal) |
ParametricDarks | 0 |
ParametricHighlights | 0 |
ParametricHighlightSplit | 75 |
ParametricLights | 0 |
ParametricMidtoneSplit | 50 |
ParametricShadows | 0 |
ParametricShadowSplit | 25 |
PerspectiveHorizontal | 0 |
PerspectiveRotate | 0.0 |
PerspectiveScale | 100 |
PerspectiveVertical | 0 |
PostCropVignetteAmount | 0 |
ProcessVersion | 6.7 |
ProfileDescription | Adobe RGB (1998) |
Rating | 0 |
RawFileName | kråka.jpg |
RedHue | 0 |
RedSaturation | 0 |
Saturation (1) | 0 |
Saturation | High |
SaturationAdjustmentAqua | 0 |
SaturationAdjustmentBlue | 0 |
SaturationAdjustmentGreen | 0 |
SaturationAdjustmentMagenta | 0 |
SaturationAdjustmentOrange | 0 |
SaturationAdjustmentPurple | 0 |
SaturationAdjustmentRed | 0 |
SaturationAdjustmentYellow | 0 |
ScaleFactor35efl | 1.5 |
SceneCaptureType | Standard |
SensingMethod | One-chip color area |
Shadows2012 | 0 |
ShadowTint | 0 |
SharpenDetail | 25 |
SharpenEdgeMasking | 0 |
SharpenRadius | +1.0 |
Sharpness (1) | 0 |
Sharpness | Hard |
ShutterSpeed | 1/400 |
ShutterSpeedValue | 1/400 |
Software | Adobe Photoshop CS6 (Windows) |
SplitToningBalance | 0 |
SplitToningHighlightHue | 0 |
SplitToningHighlightSaturation | 0 |
SplitToningShadowHue | 0 |
SplitToningShadowSaturation | 0 |
Subject | Div.fugler |
SubjectDistanceRange | Close |
ToneCurveName2012 | Linear |
ToneCurvePV2012 | 0, 0, 255, 255 |
ToneCurvePV2012Blue | 0, 0, 255, 255 |
ToneCurvePV2012Green | 0, 0, 255, 255 |
ToneCurvePV2012Red | 0, 0, 255, 255 |
URL_List | |
Version | 7.1 |
Vibrance | 0 |
VignetteAmount | 0 |
WhiteBalance (1) | Custom |
WhiteBalance | Manual |
Whites2012 | -28 |