Felt | Verdi |
AlreadyApplied | True |
BitsPerSample | 8 |
BlueHue | 0 |
BlueSaturation | 0 |
BrightnessValue | -1.35390625 |
CameraProfile | Adobe Standard |
CircleOfConfusion | 0.018 mm |
ColorComponents | 3 |
ColorNoiseReduction | 25 |
ColorNoiseReductionDetail | 50 |
ColorSpace | Uncalibrated |
ColorTemperature | 4450 |
Contrast | Normal |
ConvertToGrayscale | False |
CreateDate | 2012:12:21 14:47:16 |
CreatorTool | Adobe Photoshop Lightroom 4.1 (Windows) |
CropAngle | 0 |
CropBottom | 0.834286 |
CropConstrainToWarp | 0 |
CropHeight | 2723 |
CropLeft | 0.08547 |
CropRight | 1 |
CropTop | 0 |
CropUnit | pixels |
CropWidth | 4492 |
CustomRendered | Normal |
DateCreated (1) | 2012:12:21 |
DateCreated | 2012:12:21 14:47:16 |
DateTimeOriginal | 2012:12:21 14:47:16 |
ExposureCompensation | +0.3 |
ExposureMode | Auto |
ExposureProgram | Aperture-priority AE |
ExposureTime | 1/4 |
Flash | Off, Did not fire |
Format | image/jpeg |
GrainAmount | 0 |
GreenHue | 0 |
GreenSaturation | 0 |
HasCrop | True |
HasSettings | True |
HueAdjustmentAqua | 0 |
HueAdjustmentBlue | +14 |
HueAdjustmentGreen | 0 |
HueAdjustmentMagenta | +39 |
HueAdjustmentOrange | 0 |
HueAdjustmentPurple | +27 |
HueAdjustmentRed | 0 |
HueAdjustmentYellow | 0 |
ImageHeight | 2813 |
ImageSize | 4582x2813 |
ImageWidth | 4582 |
ISO | 100 |
Lens | ---- |
LensManualDistortionAmount | 0 |
LensModel | ---- |
LensProfileEnable | 0 |
LensProfileSetup | LensDefaults |
LightSource | Unknown |
LuminanceAdjustmentAqua | 0 |
LuminanceAdjustmentBlue | 0 |
LuminanceAdjustmentGreen | 0 |
LuminanceAdjustmentMagenta | +34 |
LuminanceAdjustmentOrange | 0 |
LuminanceAdjustmentPurple | +25 |
LuminanceAdjustmentRed | 0 |
LuminanceAdjustmentYellow | 0 |
LuminanceNoiseReductionContrast | 0 |
LuminanceNoiseReductionDetail | 50 |
LuminanceSmoothing | 24 |
Make | SONY |
MaxApertureValue | 1.0 |
Megapixels | 12.9 |
MeteringMode | Center-weighted average |
Model | NEX-5N |
ModifyDate (1) | 2012:12:21 15:41:30+01:00 |
ModifyDate | 2012:12:21 15:41:30 |
ParametricDarks | 0 |
ParametricHighlights | 0 |
ParametricHighlightSplit | 75 |
ParametricLights | 0 |
ParametricMidtoneSplit | 50 |
ParametricShadows | 0 |
ParametricShadowSplit | 25 |
PerspectiveHorizontal | 0 |
PerspectiveRotate | 0.0 |
PerspectiveScale | 100 |
PerspectiveVertical | 0 |
PostCropVignetteAmount | +2 |
PostCropVignetteFeather | 50 |
PostCropVignetteMidpoint | 50 |
PostCropVignetteRoundness | 0 |
PostCropVignetteStyle | 1 |
ProcessVersion | 6.7 |
ProfileDescription | sRGB IEC61966-2.1 |
RecommendedExposureIndex | 100 |
RedHue | 0 |
RedSaturation | 0 |
Saturation | Normal |
SaturationAdjustmentAqua | 0 |
SaturationAdjustmentBlue | 0 |
SaturationAdjustmentGreen | 0 |
SaturationAdjustmentMagenta | +43 |
SaturationAdjustmentOrange | 0 |
SaturationAdjustmentPurple | +31 |
SaturationAdjustmentRed | 0 |
SaturationAdjustmentYellow | 0 |
ScaleFactor35efl | 1.7 |
SceneCaptureType | Standard |
SceneType | Directly photographed |
SensitivityType | Recommended Exposure Index |
ShadowTint | 0 |
SharpenDetail | 25 |
SharpenEdgeMasking | 0 |
SharpenRadius | +1.0 |
Sharpness (1) | Hard |
Sharpness | Normal |
ShutterSpeed | 1/4 |
ShutterSpeedValue | 1/4 |
Software | Adobe Photoshop Lightroom 4.1 (Windows) |
SplitToningBalance | 0 |
SplitToningHighlightHue | 0 |
SplitToningHighlightSaturation | 0 |
SplitToningShadowHue | 0 |
SplitToningShadowSaturation | 0 |
Tint | -20 |
Version | 7.1 |
Vibrance | 0 |
VignetteAmount | 0 |
WhiteBalance | Auto |